BEGIN:VCALENDAR
VERSION:2.0
PRODID:-//hacksw/handcal//NONSGML v1.0//EN
CALSCALE:GREGORIAN
BEGIN:VEVENT
LOCATION:16\, boulevard Vasserot\, 83990 Saint-Tropez
DESCRIPTION:https://www.golfe-saint-tropez-information.com/en/animation/cultural/saint-tropez/exhibition-mason-art-7693933
DTSTART:20260817T000000Z
DTEND:20260831T000000Z
SUMMARY:Exhibition - Mason Art
URL;VALUE=URI:https://www.golfe-saint-tropez-information.com/en/animation/cultural/saint-tropez/exhibition-mason-art-7693933
DTSTAMP:20260425T173627Z
UID:69ecfb9bdfeea
END:VEVENT
END:VCALENDAR