BEGIN:VCALENDAR
VERSION:2.0
PRODID:-//hacksw/handcal//NONSGML v1.0//EN
CALSCALE:GREGORIAN
BEGIN:VEVENT
LOCATION:Place Général de Gaulle\, 83350 Ramatuelle
DESCRIPTION:https://www.golfe-saint-tropez-information.com/fr/animation/culture/ramatuelle/visite-insolite-au-coeur-de-ramatuelle-en-octobre-7687606
DTSTART:20261006T000000Z
DTEND:20261027T000000Z
SUMMARY:Visite insolite : Au cœur de Ramatuelle en octobre
URL;VALUE=URI:https://www.golfe-saint-tropez-information.com/fr/animation/culture/ramatuelle/visite-insolite-au-coeur-de-ramatuelle-en-octobre-7687606
DTSTAMP:20260426T010213Z
UID:69ed6415cd544
END:VEVENT
END:VCALENDAR