BEGIN:VCALENDAR
VERSION:2.0
PRODID:-//hacksw/handcal//NONSGML v1.0//EN
CALSCALE:GREGORIAN
BEGIN:VEVENT
LOCATION:Place Général de Gaulle\, 83350 Ramatuelle
DESCRIPTION:https://www.golfe-saint-tropez-information.com/en/animation/cultural/ramatuelle/unusual-visit-in-the-heart-of-ramatuelle-in-october-7687606
DTSTART:20261006T000000Z
DTEND:20261027T000000Z
SUMMARY:Unusual visit: In the heart of Ramatuelle in October
URL;VALUE=URI:https://www.golfe-saint-tropez-information.com/en/animation/cultural/ramatuelle/unusual-visit-in-the-heart-of-ramatuelle-in-october-7687606
DTSTAMP:20260426T023612Z
UID:69ed7a1c86eed
END:VEVENT
END:VCALENDAR