BEGIN:VCALENDAR
VERSION:2.0
PRODID:-//hacksw/handcal//NONSGML v1.0//EN
CALSCALE:GREGORIAN
BEGIN:VEVENT
LOCATION:Place Général de Gaulle\, 83350 Ramatuelle
DESCRIPTION:https://www.golfe-saint-tropez-information.com/fr/animation/culture/ramatuelle/visite-insolite-au-coeur-de-ramatuelle-en-septembre-7687596
DTSTART:20260915T000000Z
DTEND:20260929T000000Z
SUMMARY:Visite insolite : Au cœur de Ramatuelle en septembre
URL;VALUE=URI:https://www.golfe-saint-tropez-information.com/fr/animation/culture/ramatuelle/visite-insolite-au-coeur-de-ramatuelle-en-septembre-7687596
DTSTAMP:20260423T042028Z
UID:69e99e0c3e9e0
END:VEVENT
END:VCALENDAR