BEGIN:VCALENDAR
VERSION:2.0
PRODID:-//hacksw/handcal//NONSGML v1.0//EN
CALSCALE:GREGORIAN
BEGIN:VEVENT
LOCATION:Place Général de Gaulle\, 83350 Ramatuelle
DESCRIPTION:https://www.golfe-saint-tropez-information.com/en/animation/cultural/ramatuelle/unusual-visit-in-the-heart-of-ramatuelle-in-september-7687596
DTSTART:20260915T000000Z
DTEND:20260929T000000Z
SUMMARY:Unusual visit: In the heart of Ramatuelle in September
URL;VALUE=URI:https://www.golfe-saint-tropez-information.com/en/animation/cultural/ramatuelle/unusual-visit-in-the-heart-of-ramatuelle-in-september-7687596
DTSTAMP:20260423T054154Z
UID:69e9b122f248c
END:VEVENT
END:VCALENDAR