BEGIN:VCALENDAR
VERSION:2.0
PRODID:-//hacksw/handcal//NONSGML v1.0//EN
CALSCALE:GREGORIAN
BEGIN:VEVENT
LOCATION:Place Général de Gaulle\, 83350 Ramatuelle
DESCRIPTION:https://www.golfe-saint-tropez-information.com/fr/animation/culture/ramatuelle/visite-insolite-au-coeur-de-ramatuelle-en-juillet-7687585
DTSTART:20260707T000000Z
DTEND:20260714T000000Z
SUMMARY:Visite insolite : Au cœur de Ramatuelle en juillet
URL;VALUE=URI:https://www.golfe-saint-tropez-information.com/fr/animation/culture/ramatuelle/visite-insolite-au-coeur-de-ramatuelle-en-juillet-7687585
DTSTAMP:20260425T203813Z
UID:69ed26355fc4e
END:VEVENT
END:VCALENDAR