BEGIN:VCALENDAR
VERSION:2.0
PRODID:-//hacksw/handcal//NONSGML v1.0//EN
CALSCALE:GREGORIAN
BEGIN:VEVENT
LOCATION:Place Général de Gaulle\, 83350 Ramatuelle
DESCRIPTION:https://www.golfe-saint-tropez-information.com/en/animation/cultural/ramatuelle/unusual-visit-in-the-heart-of-ramatuelle-in-july-7687585
DTSTART:20260707T000000Z
DTEND:20260714T000000Z
SUMMARY:Unusual visit: In the heart of Ramatuelle in July
URL;VALUE=URI:https://www.golfe-saint-tropez-information.com/en/animation/cultural/ramatuelle/unusual-visit-in-the-heart-of-ramatuelle-in-july-7687585
DTSTAMP:20260425T221941Z
UID:69ed3dfd926d8
END:VEVENT
END:VCALENDAR