BEGIN:VCALENDAR
VERSION:2.0
PRODID:-//hacksw/handcal//NONSGML v1.0//EN
CALSCALE:GREGORIAN
BEGIN:VEVENT
LOCATION:Place Général de Gaulle\, 83350 Ramatuelle
DESCRIPTION:https://www.golfe-saint-tropez-information.com/fr/animation/culture/ramatuelle/visite-insolite-au-coeur-de-ramatuelle-en-juin-7687581
DTSTART:20260602T000000Z
DTEND:20260630T000000Z
SUMMARY:Visite insolite : Au cœur de Ramatuelle en juin
URL;VALUE=URI:https://www.golfe-saint-tropez-information.com/fr/animation/culture/ramatuelle/visite-insolite-au-coeur-de-ramatuelle-en-juin-7687581
DTSTAMP:20260425T173628Z
UID:69ecfb9cc6c25
END:VEVENT
END:VCALENDAR