BEGIN:VCALENDAR
VERSION:2.0
PRODID:-//hacksw/handcal//NONSGML v1.0//EN
CALSCALE:GREGORIAN
BEGIN:VEVENT
LOCATION:Place Général de Gaulle\, 83350 Ramatuelle
DESCRIPTION:https://www.golfe-saint-tropez-information.com/en/animation/cultural/ramatuelle/unusual-visit-in-the-heart-of-ramatuelle-in-june-7687581
DTSTART:20260602T000000Z
DTEND:20260630T000000Z
SUMMARY:Unusual visit: In the heart of Ramatuelle in June
URL;VALUE=URI:https://www.golfe-saint-tropez-information.com/en/animation/cultural/ramatuelle/unusual-visit-in-the-heart-of-ramatuelle-in-june-7687581
DTSTAMP:20260425T205233Z
UID:69ed29912f901
END:VEVENT
END:VCALENDAR