BEGIN:VCALENDAR
VERSION:2.0
PRODID:-//hacksw/handcal//NONSGML v1.0//EN
CALSCALE:GREGORIAN
BEGIN:VEVENT
LOCATION:Place Général de Gaulle\, 83350 Ramatuelle
DESCRIPTION:https://www.golfe-saint-tropez-information.com/fr/animation/culture/ramatuelle/visite-insolite-au-coeur-de-ramatuelle-en-mai-7687569
DTSTART:20260512T000000Z
DTEND:20260526T000000Z
SUMMARY:Visite insolite : Au cœur de Ramatuelle en mai
URL;VALUE=URI:https://www.golfe-saint-tropez-information.com/fr/animation/culture/ramatuelle/visite-insolite-au-coeur-de-ramatuelle-en-mai-7687569
DTSTAMP:20260425T160257Z
UID:69ece5b18a83b
END:VEVENT
END:VCALENDAR