BEGIN:VCALENDAR
VERSION:2.0
PRODID:-//hacksw/handcal//NONSGML v1.0//EN
CALSCALE:GREGORIAN
BEGIN:VEVENT
LOCATION:Place Général de Gaulle\, 83350 Ramatuelle
DESCRIPTION:https://www.golfe-saint-tropez-information.com/en/animation/cultural/ramatuelle/unusual-visit-in-the-heart-of-ramatuelle-in-may-7687569
DTSTART:20260512T000000Z
DTEND:20260526T000000Z
SUMMARY:Unusual visit: In the heart of Ramatuelle in May
URL;VALUE=URI:https://www.golfe-saint-tropez-information.com/en/animation/cultural/ramatuelle/unusual-visit-in-the-heart-of-ramatuelle-in-may-7687569
DTSTAMP:20260425T172856Z
UID:69ecf9d822b91
END:VEVENT
END:VCALENDAR