BEGIN:VCALENDAR
VERSION:2.0
PRODID:-//hacksw/handcal//NONSGML v1.0//EN
CALSCALE:GREGORIAN
BEGIN:VEVENT
LOCATION:CD 44\, Les Beaucas\, 83120 Sainte-Maxime
DESCRIPTION:https://www.golfe-saint-tropez-information.com/fr/animation/distractions-et-loisirs/sainte-maxime/immersion-gourmande-balade-dans-les-vignes-7682373
DTSTART:20260518T000000Z
DTEND:20260518T000000Z
SUMMARY:Immersion gourmande : Balade dans les vignes
URL;VALUE=URI:https://www.golfe-saint-tropez-information.com/fr/animation/distractions-et-loisirs/sainte-maxime/immersion-gourmande-balade-dans-les-vignes-7682373
DTSTAMP:20260422T174650Z
UID:69e9098a74462
END:VEVENT
END:VCALENDAR