BEGIN:VCALENDAR
VERSION:2.0
PRODID:-//hacksw/handcal//NONSGML v1.0//EN
CALSCALE:GREGORIAN
BEGIN:VEVENT
LOCATION:3\, traverse de la Gendarmerie\, 83990 Saint-Tropez
DESCRIPTION:https://www.golfe-saint-tropez-information.com/en/animation/cultural/saint-tropez/lecture-henri-rousseau-painting-s-ambition-7682170
DTSTART:20260423T000000Z
DTEND:20260423T000000Z
SUMMARY:Lecture - Henri ROUSSEAU Painting's ambition
URL;VALUE=URI:https://www.golfe-saint-tropez-information.com/en/animation/cultural/saint-tropez/lecture-henri-rousseau-painting-s-ambition-7682170
DTSTAMP:20260422T150516Z
UID:69e8e3ac78f2a
END:VEVENT
END:VCALENDAR