BEGIN:VCALENDAR
VERSION:2.0
PRODID:-//hacksw/handcal//NONSGML v1.0//EN
CALSCALE:GREGORIAN
BEGIN:VEVENT
LOCATION:834 route des Blaquières\, 83310 Grimaud
DESCRIPTION:https://www.golfe-saint-tropez-information.com/fr/animation/distractions-et-loisirs/grimaud/tournoi-annuel-de-l-association-tennis-grimaud-7678133
DTSTART:20260410T000000Z
DTEND:20260426T000000Z
SUMMARY:Tournoi annuel de l'Association Tennis Grimaud
URL;VALUE=URI:https://www.golfe-saint-tropez-information.com/fr/animation/distractions-et-loisirs/grimaud/tournoi-annuel-de-l-association-tennis-grimaud-7678133
DTSTAMP:20260425T160609Z
UID:69ece67148d8c
END:VEVENT
END:VCALENDAR