BEGIN:VCALENDAR
VERSION:2.0
PRODID:-//hacksw/handcal//NONSGML v1.0//EN
CALSCALE:GREGORIAN
BEGIN:VEVENT
LOCATION:834 route des Blaquières\, 83310 Grimaud
DESCRIPTION:https://www.golfe-saint-tropez-information.com/en/animation/entertainment-recreation/grimaud/annual-tournament-of-the-grimaud-tennis-association-7678133
DTSTART:20260410T000000Z
DTEND:20260426T000000Z
SUMMARY:Annual Tournament of the Grimaud Tennis Association
URL;VALUE=URI:https://www.golfe-saint-tropez-information.com/en/animation/entertainment-recreation/grimaud/annual-tournament-of-the-grimaud-tennis-association-7678133
DTSTAMP:20260425T173627Z
UID:69ecfb9ba03a6
END:VEVENT
END:VCALENDAR