BEGIN:VCALENDAR
VERSION:2.0
PRODID:-//hacksw/handcal//NONSGML v1.0//EN
CALSCALE:GREGORIAN
BEGIN:VEVENT
LOCATION:454 Chemin Pierre Foncin\, 83240 Cavalaire-sur-Mer
DESCRIPTION:https://www.golfe-saint-tropez-information.com/fr/animation/sports/cavalaire-sur-mer/cours-de-pilates-avec-stephanie-7677833
DTSTART:20260412T000000Z
DTEND:20260927T000000Z
SUMMARY:Cours de Pilates avec Stéphanie
URL;VALUE=URI:https://www.golfe-saint-tropez-information.com/fr/animation/sports/cavalaire-sur-mer/cours-de-pilates-avec-stephanie-7677833
DTSTAMP:20260425T185358Z
UID:69ed0dc6edcbc
END:VEVENT
END:VCALENDAR