BEGIN:VCALENDAR
VERSION:2.0
PRODID:-//hacksw/handcal//NONSGML v1.0//EN
CALSCALE:GREGORIAN
BEGIN:VEVENT
LOCATION:454 Chemin Pierre Foncin\, 83240 Cavalaire-sur-Mer
DESCRIPTION:https://www.golfe-saint-tropez-information.com/en/animation/sports-and-leisure/cavalaire-sur-mer/pilates-classes-with-stephanie-7677833
DTSTART:20260412T000000Z
DTEND:20260927T000000Z
SUMMARY:Pilates classes with Stephanie
URL;VALUE=URI:https://www.golfe-saint-tropez-information.com/en/animation/sports-and-leisure/cavalaire-sur-mer/pilates-classes-with-stephanie-7677833
DTSTAMP:20260425T203817Z
UID:69ed263977ad7
END:VEVENT
END:VCALENDAR