BEGIN:VCALENDAR
VERSION:2.0
PRODID:-//hacksw/handcal//NONSGML v1.0//EN
CALSCALE:GREGORIAN
BEGIN:VEVENT
LOCATION:454 Chemin Pierre Foncin\, 83240 Cavalaire-sur-Mer
DESCRIPTION:https://www.golfe-saint-tropez-information.com/en/animation/sports-and-leisure/cavalaire-sur-mer/seance-de-yoga-aerien-avec-peggy-lucido-7677790
DTSTART:20260429T000000Z
DTEND:20261028T000000Z
SUMMARY:Séance de Yoga Aérien avec Peggy Lucido
URL;VALUE=URI:https://www.golfe-saint-tropez-information.com/en/animation/sports-and-leisure/cavalaire-sur-mer/seance-de-yoga-aerien-avec-peggy-lucido-7677790
DTSTAMP:20260421T114403Z
UID:69e76303b9a0a
END:VEVENT
END:VCALENDAR