BEGIN:VCALENDAR
VERSION:2.0
PRODID:-//hacksw/handcal//NONSGML v1.0//EN
CALSCALE:GREGORIAN
BEGIN:VEVENT
LOCATION:Place Abbé Toti\, 83310 Cogolin
DESCRIPTION:https://www.golfe-saint-tropez-information.com/fr/animation/culture/cogolin/concert-des-retro-swing-ladies-7676202
DTSTART:20260513T000000Z
DTEND:20260513T000000Z
SUMMARY:Concert des retro swing ladies
URL;VALUE=URI:https://www.golfe-saint-tropez-information.com/fr/animation/culture/cogolin/concert-des-retro-swing-ladies-7676202
DTSTAMP:20260422T161851Z
UID:69e8f4eb5b442
END:VEVENT
END:VCALENDAR