BEGIN:VCALENDAR
VERSION:2.0
PRODID:-//hacksw/handcal//NONSGML v1.0//EN
CALSCALE:GREGORIAN
BEGIN:VEVENT
LOCATION:Place Abbé Toti\, 83310 Cogolin
DESCRIPTION:https://www.golfe-saint-tropez-information.com/en/animation/cultural/cogolin/retro-swing-ladies-concert-7676202
DTSTART:20260513T000000Z
DTEND:20260513T000000Z
SUMMARY:Retro swing ladies concert
URL;VALUE=URI:https://www.golfe-saint-tropez-information.com/en/animation/cultural/cogolin/retro-swing-ladies-concert-7676202
DTSTAMP:20260422T174702Z
UID:69e90996aa76a
END:VEVENT
END:VCALENDAR