BEGIN:VCALENDAR
VERSION:2.0
PRODID:-//hacksw/handcal//NONSGML v1.0//EN
CALSCALE:GREGORIAN
BEGIN:VEVENT
LOCATION:Square Jean Moulin\, 83310 Cogolin
DESCRIPTION:https://www.golfe-saint-tropez-information.com/fr/animation/distractions-et-loisirs/cogolin/balades-en-caleche-7676123
DTSTART:20260423T000000Z
DTEND:20260423T000000Z
SUMMARY:Balades en calèche
URL;VALUE=URI:https://www.golfe-saint-tropez-information.com/fr/animation/distractions-et-loisirs/cogolin/balades-en-caleche-7676123
DTSTAMP:20260422T132812Z
UID:69e8ccec812b8
END:VEVENT
END:VCALENDAR