BEGIN:VCALENDAR
VERSION:2.0
PRODID:-//hacksw/handcal//NONSGML v1.0//EN
CALSCALE:GREGORIAN
BEGIN:VEVENT
LOCATION:Square Jean Moulin\, 83310 Cogolin
DESCRIPTION:https://www.golfe-saint-tropez-information.com/en/animation/entertainment-recreation/cogolin/horse-drawn-carriage-rides-7676123
DTSTART:20260423T000000Z
DTEND:20260423T000000Z
SUMMARY:Horse-drawn carriage rides
URL;VALUE=URI:https://www.golfe-saint-tropez-information.com/en/animation/entertainment-recreation/cogolin/horse-drawn-carriage-rides-7676123
DTSTAMP:20260422T145803Z
UID:69e8e1fb52129
END:VEVENT
END:VCALENDAR