BEGIN:VCALENDAR
VERSION:2.0
PRODID:-//hacksw/handcal//NONSGML v1.0//EN
CALSCALE:GREGORIAN
BEGIN:VEVENT
LOCATION:850 route Nationale\, 83310 Grimaud
DESCRIPTION:https://www.golfe-saint-tropez-information.com/fr/animation/culture/grimaud/stage-de-theatre-enfants-7671652
DTSTART:20260420T000000Z
DTEND:20260424T000000Z
SUMMARY:Stage de théâtre (enfants)
URL;VALUE=URI:https://www.golfe-saint-tropez-information.com/fr/animation/culture/grimaud/stage-de-theatre-enfants-7671652
DTSTAMP:20260421T115134Z
UID:69e764c6909b3
END:VEVENT
END:VCALENDAR