BEGIN:VCALENDAR
VERSION:2.0
PRODID:-//hacksw/handcal//NONSGML v1.0//EN
CALSCALE:GREGORIAN
BEGIN:VEVENT
LOCATION:850 route Nationale\, 83310 Grimaud
DESCRIPTION:https://www.golfe-saint-tropez-information.com/en/animation/cultural/grimaud/theatre-workshop-children-7671652
DTSTART:20260420T000000Z
DTEND:20260424T000000Z
SUMMARY:Theatre workshop (children)
URL;VALUE=URI:https://www.golfe-saint-tropez-information.com/en/animation/cultural/grimaud/theatre-workshop-children-7671652
DTSTAMP:20260421T102041Z
UID:69e74f7910afc
END:VEVENT
END:VCALENDAR