BEGIN:VCALENDAR
VERSION:2.0
PRODID:-//hacksw/handcal//NONSGML v1.0//EN
CALSCALE:GREGORIAN
BEGIN:VEVENT
LOCATION:35\, chemin de l'Estagnet\, Saint-Tropez
DESCRIPTION:https://www.golfe-saint-tropez-information.com/fr/animation/sports/saint-tropez/last-les-ailes-de-saint-tropez-7666843
DTSTART:20261006T000000Z
DTEND:20261011T000000Z
SUMMARY:LAST - Les Ailes de Saint-Tropez
URL;VALUE=URI:https://www.golfe-saint-tropez-information.com/fr/animation/sports/saint-tropez/last-les-ailes-de-saint-tropez-7666843
DTSTAMP:20260425T185358Z
UID:69ed0dc6e689f
END:VEVENT
END:VCALENDAR