BEGIN:VCALENDAR
VERSION:2.0
PRODID:-//hacksw/handcal//NONSGML v1.0//EN
CALSCALE:GREGORIAN
BEGIN:VEVENT
LOCATION:83990 Saint-Tropez
DESCRIPTION:https://www.golfe-saint-tropez-information.com/en/animation/entertainment-recreation/saint-tropez/paradis-porsche-7660758
DTSTART:20261010T000000Z
DTEND:20261011T000000Z
SUMMARY:Paradis Porsche
URL;VALUE=URI:https://www.golfe-saint-tropez-information.com/en/animation/entertainment-recreation/saint-tropez/paradis-porsche-7660758
DTSTAMP:20260426T010213Z
UID:69ed6415f0964
END:VEVENT
END:VCALENDAR