BEGIN:VCALENDAR
VERSION:2.0
PRODID:-//hacksw/handcal//NONSGML v1.0//EN
CALSCALE:GREGORIAN
BEGIN:VEVENT
LOCATION:Rade du Golfe de Saint-Tropez\, 83992 Saint-Tropez
DESCRIPTION:https://www.golfe-saint-tropez-information.com/en/animation/sports-and-leisure/saint-tropez/les-voiles-d-automne-regatta-7660731
DTSTART:20261114T000000Z
DTEND:20261115T000000Z
SUMMARY:Les Voiles d'Automne - Regatta
URL;VALUE=URI:https://www.golfe-saint-tropez-information.com/en/animation/sports-and-leisure/saint-tropez/les-voiles-d-automne-regatta-7660731
DTSTAMP:20260425T203811Z
UID:69ed26339ea1c
END:VEVENT
END:VCALENDAR