BEGIN:VCALENDAR
VERSION:2.0
PRODID:-//hacksw/handcal//NONSGML v1.0//EN
CALSCALE:GREGORIAN
BEGIN:VEVENT
LOCATION:Immeuble Beausoleil\, 850 route Nationale\, 83310 Grimaud
DESCRIPTION:https://www.golfe-saint-tropez-information.com/fr/animation/culture/grimaud/les-impromptus-conference-les-sous-marins-de-la-liberte-7659429
DTSTART:20261126T000000Z
DTEND:20261126T000000Z
SUMMARY:Les Impromptus - Conférence "Les sous-marins de la liberté"
URL;VALUE=URI:https://www.golfe-saint-tropez-information.com/fr/animation/culture/grimaud/les-impromptus-conference-les-sous-marins-de-la-liberte-7659429
DTSTAMP:20260425T220038Z
UID:69ed398639499
END:VEVENT
END:VCALENDAR