BEGIN:VCALENDAR
VERSION:2.0
PRODID:-//hacksw/handcal//NONSGML v1.0//EN
CALSCALE:GREGORIAN
BEGIN:VEVENT
LOCATION:Immeuble Beausoleil\, 850 route Nationale\, 83310 Grimaud
DESCRIPTION:https://www.golfe-saint-tropez-information.com/en/animation/cultural/grimaud/les-impromptus-lecture-the-submarines-of-freedom-7659429
DTSTART:20261126T000000Z
DTEND:20261126T000000Z
SUMMARY:Les Impromptus - Lecture: ‘The Submarines of Freedom’
URL;VALUE=URI:https://www.golfe-saint-tropez-information.com/en/animation/cultural/grimaud/les-impromptus-lecture-the-submarines-of-freedom-7659429
DTSTAMP:20260425T234308Z
UID:69ed518c48a28
END:VEVENT
END:VCALENDAR