BEGIN:VCALENDAR
VERSION:2.0
PRODID:-//hacksw/handcal//NONSGML v1.0//EN
CALSCALE:GREGORIAN
BEGIN:VEVENT
LOCATION:83990 Saint-Tropez
DESCRIPTION:https://www.golfe-saint-tropez-information.com/en/animation/entertainment-recreation/saint-tropez/grande-braderie-de-saint-tropez-7658690
DTSTART:20261023T000000Z
DTEND:20261025T000000Z
SUMMARY:Grande Braderie de Saint-Tropez
URL;VALUE=URI:https://www.golfe-saint-tropez-information.com/en/animation/entertainment-recreation/saint-tropez/grande-braderie-de-saint-tropez-7658690
DTSTAMP:20260426T010156Z
UID:69ed640443ea9
END:VEVENT
END:VCALENDAR