BEGIN:VCALENDAR
VERSION:2.0
PRODID:-//hacksw/handcal//NONSGML v1.0//EN
CALSCALE:GREGORIAN
BEGIN:VEVENT
LOCATION:591 route Nationale\, 83310 Grimaud
DESCRIPTION:https://www.golfe-saint-tropez-information.com/fr/animation/distractions-et-loisirs/grimaud/atelier-jeunes-publics-peins-ton-santon-7658166
DTSTART:20261216T000000Z
DTEND:20261216T000000Z
SUMMARY:Atelier jeunes publics "Peins ton santon"
URL;VALUE=URI:https://www.golfe-saint-tropez-information.com/fr/animation/distractions-et-loisirs/grimaud/atelier-jeunes-publics-peins-ton-santon-7658166
DTSTAMP:20260425T220039Z
UID:69ed398717ada
END:VEVENT
END:VCALENDAR