BEGIN:VCALENDAR
VERSION:2.0
PRODID:-//hacksw/handcal//NONSGML v1.0//EN
CALSCALE:GREGORIAN
BEGIN:VEVENT
LOCATION:591 route Nationale\, 83310 Grimaud
DESCRIPTION:https://www.golfe-saint-tropez-information.com/en/animation/entertainment-recreation/grimaud/workshop-for-young-audiences-paint-your-santon-7658166
DTSTART:20261216T000000Z
DTEND:20261216T000000Z
SUMMARY:Workshop for young audiences: ‘Paint your santon’
URL;VALUE=URI:https://www.golfe-saint-tropez-information.com/en/animation/entertainment-recreation/grimaud/workshop-for-young-audiences-paint-your-santon-7658166
DTSTAMP:20260425T234245Z
UID:69ed5175f3fc3
END:VEVENT
END:VCALENDAR