BEGIN:VCALENDAR
VERSION:2.0
PRODID:-//hacksw/handcal//NONSGML v1.0//EN
CALSCALE:GREGORIAN
BEGIN:VEVENT
LOCATION:323\, chemin de Pimpinon\, Accès par la RD559\, 83580 Gassin
DESCRIPTION:https://www.golfe-saint-tropez-information.com/en/animation/nature-and-relaxation/gassin/creativite-et-bien-etre-au-jardin-de-gassin-7655624
DTSTART:20260516T000000Z
DTEND:20260517T000000Z
SUMMARY:Créativité et bien-être au jardin de Gassin
URL;VALUE=URI:https://www.golfe-saint-tropez-information.com/en/animation/nature-and-relaxation/gassin/creativite-et-bien-etre-au-jardin-de-gassin-7655624
DTSTAMP:20260425T203817Z
UID:69ed2639d9d85
END:VEVENT
END:VCALENDAR