BEGIN:VCALENDAR
VERSION:2.0
PRODID:-//hacksw/handcal//NONSGML v1.0//EN
CALSCALE:GREGORIAN
BEGIN:VEVENT
LOCATION:Plage de Gigaro\, 83420 La Croix-Valmer
DESCRIPTION:https://www.golfe-saint-tropez-information.com/fr/animation/nature-et-detente/la-croix-valmer/point-rencontre-avec-un-garde-du-littoral-la-faune-du-cap-lardier-protection-et-protocoles-de-suivi-7652055
DTSTART:20261020T000000Z
DTEND:20261020T000000Z
SUMMARY:Point rencontre avec un garde du littoral : La faune du Cap Lardier\, protection et protocoles de suivi
URL;VALUE=URI:https://www.golfe-saint-tropez-information.com/fr/animation/nature-et-detente/la-croix-valmer/point-rencontre-avec-un-garde-du-littoral-la-faune-du-cap-lardier-protection-et-protocoles-de-suivi-7652055
DTSTAMP:20260425T203818Z
UID:69ed263a60bf6
END:VEVENT
END:VCALENDAR