BEGIN:VCALENDAR
VERSION:2.0
PRODID:-//hacksw/handcal//NONSGML v1.0//EN
CALSCALE:GREGORIAN
BEGIN:VEVENT
LOCATION:Plage de Gigaro\, 83420 La Croix-Valmer
DESCRIPTION:https://www.golfe-saint-tropez-information.com/en/animation/nature-and-relaxation/la-croix-valmer/meeting-point-with-a-coastguard-the-wildlife-of-cap-lardier-protection-and-monitoring-protocols-7652055
DTSTART:20261020T000000Z
DTEND:20261020T000000Z
SUMMARY:Meeting point with a coastguard: The wildlife of Cap Lardier\, protection and monitoring protocols
URL;VALUE=URI:https://www.golfe-saint-tropez-information.com/en/animation/nature-and-relaxation/la-croix-valmer/meeting-point-with-a-coastguard-the-wildlife-of-cap-lardier-protection-and-monitoring-protocols-7652055
DTSTAMP:20260425T222018Z
UID:69ed3e229c386
END:VEVENT
END:VCALENDAR