BEGIN:VCALENDAR
VERSION:2.0
PRODID:-//hacksw/handcal//NONSGML v1.0//EN
CALSCALE:GREGORIAN
BEGIN:VEVENT
LOCATION:Rond pont Saint Exupéry\, 83240 Cavalaire-sur-Mer
DESCRIPTION:https://www.golfe-saint-tropez-information.com/en/animation/entertainment-recreation/cavalaire-sur-mer/avril-en-famille-mini-ferme-pedagogique-et-bapteme-a-poney-7634380
DTSTART:20260425T000000Z
DTEND:20260425T000000Z
SUMMARY:Avril en Famille: Mini Ferme pédagogique et baptême à poney
URL;VALUE=URI:https://www.golfe-saint-tropez-information.com/en/animation/entertainment-recreation/cavalaire-sur-mer/avril-en-famille-mini-ferme-pedagogique-et-bapteme-a-poney-7634380
DTSTAMP:20260422T191757Z
UID:69e91ee58a4a4
END:VEVENT
END:VCALENDAR