BEGIN:VCALENDAR
VERSION:2.0
PRODID:-//hacksw/handcal//NONSGML v1.0//EN
CALSCALE:GREGORIAN
BEGIN:VEVENT
LOCATION:La Croix du Sud\, 83240 Cavalaire-sur-Mer
DESCRIPTION:https://www.golfe-saint-tropez-information.com/en/animation/entertainment-recreation/cavalaire-sur-mer/avril-en-famille-balade-a-dos-d-anes-7634366
DTSTART:20260424T000000Z
DTEND:20260424T000000Z
SUMMARY:Avril en Famille: balade à dos d'ânes
URL;VALUE=URI:https://www.golfe-saint-tropez-information.com/en/animation/entertainment-recreation/cavalaire-sur-mer/avril-en-famille-balade-a-dos-d-anes-7634366
DTSTAMP:20260422T150415Z
UID:69e8e36f1e8b3
END:VEVENT
END:VCALENDAR