BEGIN:VCALENDAR
VERSION:2.0
PRODID:-//hacksw/handcal//NONSGML v1.0//EN
CALSCALE:GREGORIAN
BEGIN:VEVENT
LOCATION:Rond pont Saint Exupéry\, 83240 Cavalaire-sur-Mer
DESCRIPTION:https://www.golfe-saint-tropez-information.com/fr/animation/distractions-et-loisirs/cavalaire-sur-mer/avril-en-famille-le-labyrinthe-geant-7634338
DTSTART:20260423T000000Z
DTEND:20260423T000000Z
SUMMARY:Avril en Famille: Le labyrinthe géant
URL;VALUE=URI:https://www.golfe-saint-tropez-information.com/fr/animation/distractions-et-loisirs/cavalaire-sur-mer/avril-en-famille-le-labyrinthe-geant-7634338
DTSTAMP:20260422T132749Z
UID:69e8ccd5b9128
END:VEVENT
END:VCALENDAR