BEGIN:VCALENDAR
VERSION:2.0
PRODID:-//hacksw/handcal//NONSGML v1.0//EN
CALSCALE:GREGORIAN
BEGIN:VEVENT
LOCATION:Rond pont Saint Exupéry\, 83240 Cavalaire-sur-Mer
DESCRIPTION:https://www.golfe-saint-tropez-information.com/fr/animation/distractions-et-loisirs/cavalaire-sur-mer/avril-en-famille-jeux-gonflables-7634330
DTSTART:20260422T000000Z
DTEND:20260422T000000Z
SUMMARY:Avril en Famille: jeux gonflables
URL;VALUE=URI:https://www.golfe-saint-tropez-information.com/fr/animation/distractions-et-loisirs/cavalaire-sur-mer/avril-en-famille-jeux-gonflables-7634330
DTSTAMP:20260421T151414Z
UID:69e794460c7a7
END:VEVENT
END:VCALENDAR