BEGIN:VCALENDAR
VERSION:2.0
PRODID:-//hacksw/handcal//NONSGML v1.0//EN
CALSCALE:GREGORIAN
BEGIN:VEVENT
LOCATION:Rue du Port\, 83240 Cavalaire-sur-Mer
DESCRIPTION:https://www.golfe-saint-tropez-information.com/fr/animation/distractions-et-loisirs/cavalaire-sur-mer/avril-en-famille-les-ateliers-du-petit-archeologue-7633890
DTSTART:20260415T000000Z
DTEND:20260422T000000Z
SUMMARY:Avril en Famille: Les Ateliers du Petit Archéologue
URL;VALUE=URI:https://www.golfe-saint-tropez-information.com/fr/animation/distractions-et-loisirs/cavalaire-sur-mer/avril-en-famille-les-ateliers-du-petit-archeologue-7633890
DTSTAMP:20260421T151307Z
UID:69e7940316186
END:VEVENT
END:VCALENDAR