BEGIN:VCALENDAR
VERSION:2.0
PRODID:-//hacksw/handcal//NONSGML v1.0//EN
CALSCALE:GREGORIAN
BEGIN:VEVENT
LOCATION:Rue du Port\, 83240 Cavalaire-sur-Mer
DESCRIPTION:https://www.golfe-saint-tropez-information.com/en/animation/entertainment-recreation/cavalaire-sur-mer/avril-en-famille-les-ateliers-du-petit-archeologue-7633889
DTSTART:20260414T000000Z
DTEND:20260421T000000Z
SUMMARY:Avril en Famille: Les Ateliers du Petit Archéologue
URL;VALUE=URI:https://www.golfe-saint-tropez-information.com/en/animation/entertainment-recreation/cavalaire-sur-mer/avril-en-famille-les-ateliers-du-petit-archeologue-7633889
DTSTAMP:20260421T171542Z
UID:69e7b0be38358
END:VEVENT
END:VCALENDAR