BEGIN:VCALENDAR
VERSION:2.0
PRODID:-//hacksw/handcal//NONSGML v1.0//EN
CALSCALE:GREGORIAN
BEGIN:VEVENT
LOCATION:1999\, route du Bourrian\, 83580 Gassin
DESCRIPTION:https://www.golfe-saint-tropez-information.com/fr/animation/sports/gassin/tournoi-de-polo-women-polo-series-7625607
DTSTART:20260903T000000Z
DTEND:20260913T000000Z
SUMMARY:Tournoi de polo - Women polo series
URL;VALUE=URI:https://www.golfe-saint-tropez-information.com/fr/animation/sports/gassin/tournoi-de-polo-women-polo-series-7625607
DTSTAMP:20260423T042028Z
UID:69e99e0cb5c63
END:VEVENT
END:VCALENDAR