BEGIN:VCALENDAR
VERSION:2.0
PRODID:-//hacksw/handcal//NONSGML v1.0//EN
CALSCALE:GREGORIAN
BEGIN:VEVENT
LOCATION:1999\, route du Bourrian\, 83580 Gassin
DESCRIPTION:https://www.golfe-saint-tropez-information.com/en/animation/sports-and-leisure/gassin/tournoi-de-polo-polo-exhibition-week-et-practrices-7625485
DTSTART:20260727T000000Z
DTEND:20260802T000000Z
SUMMARY:Tournoi de polo - Polo exhibition week et practrices
URL;VALUE=URI:https://www.golfe-saint-tropez-information.com/en/animation/sports-and-leisure/gassin/tournoi-de-polo-polo-exhibition-week-et-practrices-7625485
DTSTAMP:20260423T003435Z
UID:69e9691b090a5
END:VEVENT
END:VCALENDAR