BEGIN:VCALENDAR
VERSION:2.0
PRODID:-//hacksw/handcal//NONSGML v1.0//EN
CALSCALE:GREGORIAN
BEGIN:VEVENT
LOCATION:Café théâtre Le Lézard\, Espace Raimu\, 18 avenue Georges Clemenceau\, 83310 Cogolin
DESCRIPTION:https://www.golfe-saint-tropez-information.com/fr/animation/culture/cogolin/spectacle-moulay-dysfonctionnel-7625139
DTSTART:20260508T000000Z
DTEND:20260509T000000Z
SUMMARY:Spectacle "Moulay dysfonctionnel"
URL;VALUE=URI:https://www.golfe-saint-tropez-information.com/fr/animation/culture/cogolin/spectacle-moulay-dysfonctionnel-7625139
DTSTAMP:20260425T203237Z
UID:69ed24e519d4c
END:VEVENT
END:VCALENDAR