BEGIN:VCALENDAR
VERSION:2.0
PRODID:-//hacksw/handcal//NONSGML v1.0//EN
CALSCALE:GREGORIAN
BEGIN:VEVENT
LOCATION:Café théâtre Le Lézard\, Espace Raimu\, 18 avenue Georges Clemenceau\, 83310 Cogolin
DESCRIPTION:https://www.golfe-saint-tropez-information.com/en/animation/cultural/cogolin/moulay-dysfonctionnel-show-7625139
DTSTART:20260508T000000Z
DTEND:20260509T000000Z
SUMMARY:Moulay dysfonctionnel" show
URL;VALUE=URI:https://www.golfe-saint-tropez-information.com/en/animation/cultural/cogolin/moulay-dysfonctionnel-show-7625139
DTSTAMP:20260425T220124Z
UID:69ed39b474d10
END:VEVENT
END:VCALENDAR