BEGIN:VCALENDAR
VERSION:2.0
PRODID:-//hacksw/handcal//NONSGML v1.0//EN
CALSCALE:GREGORIAN
BEGIN:VEVENT
LOCATION:850 Route Nationale\, Immeuble Beausoleil - 1er étage\, 83310 Grimaud
DESCRIPTION:https://www.golfe-saint-tropez-information.com/fr/animation/distractions-et-loisirs/grimaud/ludotheque-jeux-de-societe-7624469
DTSTART:20260425T000000Z
DTEND:20261226T000000Z
SUMMARY:Ludothèque - Jeux de société
URL;VALUE=URI:https://www.golfe-saint-tropez-information.com/fr/animation/distractions-et-loisirs/grimaud/ludotheque-jeux-de-societe-7624469
DTSTAMP:20260422T174210Z
UID:69e908726dcf9
END:VEVENT
END:VCALENDAR