BEGIN:VCALENDAR
VERSION:2.0
PRODID:-//hacksw/handcal//NONSGML v1.0//EN
CALSCALE:GREGORIAN
BEGIN:VEVENT
LOCATION:850 Route Nationale\, Immeuble Beausoleil - 1er étage\, 83310 Grimaud
DESCRIPTION:https://www.golfe-saint-tropez-information.com/en/animation/entertainment-recreation/grimaud/games-library-board-games-7624469
DTSTART:20260425T000000Z
DTEND:20261226T000000Z
SUMMARY:Games library - Board games
URL;VALUE=URI:https://www.golfe-saint-tropez-information.com/en/animation/entertainment-recreation/grimaud/games-library-board-games-7624469
DTSTAMP:20260422T190238Z
UID:69e91b4e2d91a
END:VEVENT
END:VCALENDAR