BEGIN:VCALENDAR
VERSION:2.0
PRODID:-//hacksw/handcal//NONSGML v1.0//EN
CALSCALE:GREGORIAN
BEGIN:VEVENT
LOCATION:Place de l'église\, 83310 Grimaud
DESCRIPTION:https://www.golfe-saint-tropez-information.com/fr/animation/distractions-et-loisirs/grimaud/soirees-musicales-de-grimaud-quatuor-ludwig-7624127
DTSTART:20261113T000000Z
DTEND:20261113T000000Z
SUMMARY:Soirées Musicales de Grimaud - Quatuor Ludwig
URL;VALUE=URI:https://www.golfe-saint-tropez-information.com/fr/animation/distractions-et-loisirs/grimaud/soirees-musicales-de-grimaud-quatuor-ludwig-7624127
DTSTAMP:20260425T220124Z
UID:69ed39b4a3737
END:VEVENT
END:VCALENDAR