BEGIN:VCALENDAR
VERSION:2.0
PRODID:-//hacksw/handcal//NONSGML v1.0//EN
CALSCALE:GREGORIAN
BEGIN:VEVENT
LOCATION:Place de l'église\, 83310 Grimaud
DESCRIPTION:https://www.golfe-saint-tropez-information.com/en/animation/entertainment-recreation/grimaud/grimaud-music-evenings-ludwig-quartet-7624127
DTSTART:20261113T000000Z
DTEND:20261113T000000Z
SUMMARY:Grimaud Music Evenings - Ludwig Quartet
URL;VALUE=URI:https://www.golfe-saint-tropez-information.com/en/animation/entertainment-recreation/grimaud/grimaud-music-evenings-ludwig-quartet-7624127
DTSTAMP:20260425T233115Z
UID:69ed4ec3553dd
END:VEVENT
END:VCALENDAR