BEGIN:VCALENDAR
VERSION:2.0
PRODID:-//hacksw/handcal//NONSGML v1.0//EN
CALSCALE:GREGORIAN
BEGIN:VEVENT
LOCATION:Place de l'église\, 83310 Grimaud
DESCRIPTION:https://www.golfe-saint-tropez-information.com/fr/animation/distractions-et-loisirs/grimaud/soirees-musicales-de-grimaud-conference-concert-de-frederic-vitoux-avec-i-solisti-nuova-cameristica-di-milano-7624089
DTSTART:20261016T000000Z
DTEND:20261016T000000Z
SUMMARY:Soirées Musicales de Grimaud - Conférence-concert de Frédéric Vitoux avec I Solisti Nuova Cameristica di Milano
URL;VALUE=URI:https://www.golfe-saint-tropez-information.com/fr/animation/distractions-et-loisirs/grimaud/soirees-musicales-de-grimaud-conference-concert-de-frederic-vitoux-avec-i-solisti-nuova-cameristica-di-milano-7624089
DTSTAMP:20260425T203811Z
UID:69ed2633da7c5
END:VEVENT
END:VCALENDAR